BEGIN:VCALENDAR
VERSION:2.0
PRODID:-//CERN//INDICO//EN
BEGIN:VEVENT
SUMMARY:Dr. Türkan Doğan\, "Savunma ve Uzay-Havacılık Uygulamaları İ
 çin Yerli Yeni Nesil Yarıiletken Malzemeler ve Stratejik Komponent Tekno
 lojileri"
DTSTART:20260422T120000Z
DTEND:20260422T130000Z
DTSTAMP:20260423T145400Z
UID:indico-event-14@indico.itu.edu.tr
DESCRIPTION:Seminer Özeti (Abstract):Günümüzde savunma ve uzay-havacı
 lık sanayii\, ekstrem çevresel koşullarda (yüksek radyasyon\, termal 
 şoklar ve mekanik stres) performans kaybı yaşamayan\, güvenilirliği y
 üksek elektronik bileşenlere ihtiyaç duymaktadır. Bu seminer kapsamın
 da\, özellikle Türkiye’nin dışa bağımlılığını azaltma vizyonu
 yla geliştirilen\, patentli poliimid siloksan tabanlı nanokompozit malze
 melerin sentezi\, karakterizasyonu ve bu malzemelerin stratejik komponent 
 üretimine (SMD kapasitör\, rezistör\, dedektör) entegrasyonu ele alın
 acaktır.Sunumda\; sentezlenen malzemelerin 450°C üzerindeki termal daya
 nımı\, iyonize gama radyasyonuna karşı sergilediği dielektrik direnç
  ve esnek güneş panellerinde taşıyıcı katman olarak kullanım potans
 iyeli teknik verilerle (TGA\, SEM\, DMA ) paylaşılacaktır. Ayrıca\, s
 öz konusu teknolojilerin ASELSAN ve TAI bünyesinde yapılan sunumlar net
 icesinde "Son Kullanıcı" (End-User) seviyesinde kabul görme süreçleri
 \, NATO Endüstriyel Forumu ve British Council (Sun Gel) projeleri çerçe
 vesinde yürütülen uluslararası Ar-Ge faaliyetleri aktarılacaktır. Se
 miner sonunda\, İTÜ Fizik Mühendisliği Bölümü bünyesinde bu tür s
 tratejik çalışmaların kurumsallaşması ve ileri teknoloji laboratuvar
  altyapısının geliştirilmesine yönelik gelecek vizyonu tartışılaca
 ktır.\n\nhttps://indico.itu.edu.tr/event/14/
LOCATION:Fizik Mühendisliği Bölümü Seminer Salonu
URL:https://indico.itu.edu.tr/event/14/
END:VEVENT
END:VCALENDAR
